BEGIN:VCALENDAR
PRODID:-//MyTestProject//EN
VERSION:2.0
BEGIN:VEVENT
SUMMARY;LANGUAGE=en-us:Soulful Live Music + A Message for Our Planet This Sunday
CLASS:PUBLIC
CREATED:20260424T141743Z
DESCRIPTION:Our special guest musician is Sarah Vieira on Sunday. She is a Charlotte-based singer known for her warm tone, emotional delivery, and unique blend of classic hits with modern soul. Born in North Carolina and raised in Minas Gerais, Brazil, Sarah carries the influence of both cultures in her artistry.
Her performances are described as soulful, intimate, and unforgettable - a true reflection of her journey, her heart, and her passion for connecting through song.

Learn more about her: <a href="https://sarahvieira.bandzoogle.com/" class="lnkOrange12px" target="_blank">https://sarahvieira.bandzoogle.com/</a>

All are welcome at this very special Sunday Spiritual Service!

The theme for this month is Rooted in Renewal; Rising in Possibilities. Lawrence Toliver, who leads our Spiritual Social Action Ministry, will be our guest speaker. He will be speaking to the health and wholeness of the planet from a spiritual perspective.

Learn more about us: www.UnityOfCharlotte.org

#livemusic #earthday #Charlottemusic #spiritualcommunity #spiritual




Time: 11:00 AM - 12:00 PM
DTSTART:20260426T110000Z
DTEND:20260426T120000Z
SEQUENCE:0
UID:b720da23-2aee-482e-afc6-0e1a3e42b1e7
LOCATION:Unity of Charlotte, 3200 Park Road, Charlotte, North Carolina\, 28209\
END:VEVENT
END:VCALENDAR
