BEGIN:VCALENDAR
PRODID:-//MyTestProject//EN
VERSION:2.0
BEGIN:VEVENT
SUMMARY;LANGUAGE=en-us:Breathing Concerts (Finally in Berlin!)
CLASS:PUBLIC
CREATED:20260422T115936Z
DESCRIPTION:Berlin doesn't get impressed easily. But hundreds of people breathing as one in a sacred space, generating love together and sending it out into the world? Even Berlin hasn't felt anything like this.

After thirteen sold-out concerts in the Netherlands, the Breathing Concerts are coming to Berlin! Last month 600 people gathered at the Breathing Concert with Adrian Kuipers and Ekaterina Shelehova in Amsterdam, and something truly magical happened. During the Love Breathing, the collective field created together was so powerful that the Schumann resonance spiked, and the wifi of the sound engineer stopped working completely. When hundreds of hearts breathe as one with pure intention at a powerplace, the energy becomes very, very real. But it can also just be a 'coincidence' :)

Experience the magic of breathing together. To the same rhythm. The rhythm of the heart. At heart-touching 432hz live music at Berlin's sacred powerplace. First you spiral inward, into stillness, into the quiet beneath the noise of everyday life, into a remembrance of who you truly are. Then collectively spiralling outward, hundreds of hearts beating as one, sending pure love through our breath and intentions, through the church tower, into the world. Adrian and his band create the sonic foundation of the evening, joined by Anna-Maria Hefele, whose extraordinary ability to sing multiple notes at once creates harmonics that bypass the mind completely and land somewhere deeper.

What awaits you:
- Even by Berlin standards, this is something else. Breathwork 2.0.
- Hundreds of people breathing as one, in a sacred space, to the rhythm of 432hz live music
- First we spiral inward, into stillness, peace, and who you truly are - Then we spiral outward, generating love through our breath until the whole room is electric
- Together we shoot that love through the church tower to the places that need it most


Time: 7:30 PM - 9:30 PM


Price:
General Admission: EUR 55.00



DTSTART:20260607T193000Z
DTEND:20260607T213000Z
SEQUENCE:0
UID:8fe65ed9-3963-47f7-96eb-6b96c8ff09ac
LOCATION:Passionskirche, 1 Marheinekeplatz, Berlin\, 10961\
END:VEVENT
END:VCALENDAR
