BEGIN:VCALENDAR
PRODID:-//MyTestProject//EN
VERSION:2.0
BEGIN:VEVENT
SUMMARY;LANGUAGE=en-us:Nationwide Roofing and Home Improvement
CLASS:PUBLIC
CREATED:20260420T150119Z
DESCRIPTION:Get seasonal advice on summer roof maintenance from Nationwide Roofing and Home Improvement. Extend your roof’s lifespan and prevent damage during the hottest months.
DTSTART:20260420T151500Z
DTEND:20260420T161500Z
SEQUENCE:0
UID:1c4520de-1160-47c5-8aaf-441c76ed33ac
LOCATION:8720 Silverado Trail, McKinney, Texas 75070, United States\, 75070\
END:VEVENT
END:VCALENDAR
