BEGIN:VCALENDAR
PRODID:-//MyTestProject//EN
VERSION:2.0
BEGIN:VEVENT
SUMMARY;LANGUAGE=en-us:CK Tvätt & Syservice
CLASS:PUBLIC
CREATED:20260420T144817Z
DESCRIPTION:Drömmer du om en båt i nyskick inför nästa säsong? Låt Ck tvätt & Sy Service i Göteborg ta hand om dina båtdynor! Vårt expertteam återställer deras forna glans, så att varje tur med din yacht blir en ren njutning.
DTSTART:20260420T143000Z
DTEND:20260420T153000Z
SEQUENCE:0
UID:9339fe64-4988-44ac-81e4-44cf46ae9ccc
LOCATION:Tagenevägen 14B, 422 59 Hisings Backa, Sweden\, 422 59\
END:VEVENT
END:VCALENDAR
