BEGIN:VCALENDAR
PRODID:-//MyTestProject//EN
VERSION:2.0
BEGIN:VEVENT
SUMMARY;LANGUAGE=en-us:Hack Your Nervous System: Sound Massage Healing and 9D Breathwork (Limited Spots)
CLASS:PUBLIC
CREATED:20260420T112042Z
DESCRIPTION:What You’ll Experience
Guided 9D Breathwork Journey
Immersive spatial sound through headphones
Somatic body exercises to release stored stress
Aromatherapy to support relaxation and deep emotional processing
Tuning fork vibrational healing helps release traumas on "trauma hot spots" of the body
Integration sharing circle in a supportive environment

Years of emotional trauma - release them for good in just one session!

After the breathwork experience, participants are invited to stay for:

Modern life keeps many of us in a constant state of stress.
Busy schedules, high-performance careers, and unresolved emotional tension can leave the nervous system stuck in survival mode. This immersive experience is designed to help you reset, release, and reconnect.

Agenda:
Somatic Exercises to Release Traumas in the Body and Breathwork Techniques (20 minutes)
9D Immersive Journey (A Laying Down Experience) with Aromatherapy and Tuning Forks Healing - 9D Spatial Sound Headsets will be provided (1 hours 20 minutes)
Sharing/Social Circle (20 minutes)

Who This Experience Is For

This event is ideal for people who are:
- Experiencing corporate burnout or chronic stress
- Feeling emotionally stuck or overwhelmed
- Interested in somatic healing and nervous system regulation
- Part of the yoga, wellness, or fitness community
- Curious about deeper personal growth and self-awareness

Limited spots available.
This experience often sells out.

Preparation Tips
- Avoid heavy meals 2 hours before the session
- Wear comfortable loose clothing. Bring bottled water, eye mask and lip balm for comfort in case of dry lips due to breathwork.
- Yoga mats and blankets will be provided. Feel free to bring your own.



Time: 2:00 PM - 4:00 PM


Price:
General Admission: USD 65.00
DTSTART:20260503T140000Z
DTEND:20260503T160000Z
SEQUENCE:0
UID:28ba1c8b-060e-4e16-940f-1afa8ad23906
LOCATION:Beloved Yoga Sanctuary, 11109 Sunset Hills Road, Reston, Virginia\, 20190\
END:VEVENT
END:VCALENDAR
