BEGIN:VCALENDAR
PRODID:-//MyTestProject//EN
VERSION:2.0
BEGIN:VEVENT
SUMMARY;LANGUAGE=en-us:Norwood Dentistry
CLASS:PUBLIC
CREATED:20260420T110505Z
DESCRIPTION:In Norwood, Norwood Dentistry transparent aligners for adults have the potential to revolutionise your smile. Bye-bye to metal braces and welcome a smile that is more erect and confident.
DTSTART:20260420T123000Z
DTEND:20260420T133000Z
SEQUENCE:0
UID:c9fa6ac9-36b4-49dc-b429-2aed517c5a5c
LOCATION:4243 Highway 7, Norwood, Ontario K0L 2W0, Canada\, K0L 2W0\
END:VEVENT
END:VCALENDAR
