BEGIN:VCALENDAR
PRODID:-//MyTestProject//EN
VERSION:2.0
BEGIN:VEVENT
SUMMARY;LANGUAGE=en-us:Direct Kitchen Doors
CLASS:PUBLIC
CREATED:20260420T110158Z
DESCRIPTION:Stylish, modern, and reasonably priced new kitchen doors are available at Direct Kitchen Doors. Transform your area now!
DTSTART:20260420T121500Z
DTEND:20260420T131500Z
SEQUENCE:0
UID:8e0eaf7c-b652-4e57-b27d-d4de8a99a00c
LOCATION:2 The Bungalows, Abertillery, Wales, NP132PW, UK, \, \
END:VEVENT
END:VCALENDAR
