BEGIN:VCALENDAR
PRODID:-//MyTestProject//EN
VERSION:2.0
BEGIN:VEVENT
SUMMARY;LANGUAGE=en-us:In Good Spirit - Psychic & Holistic Fair
CLASS:PUBLIC
CREATED:20260420T020448Z
DESCRIPTION:www.ingoodspirit.co.uk
DTSTART:20260614T100000Z
DTEND:20260614T110000Z
SEQUENCE:0
UID:1e97cb1d-e570-4938-b0bd-b662e2f52a25
LOCATION:Glenmore House
6 The Crescent
Surbiton
KT6 4BN\, KT6 4BN\
END:VEVENT
END:VCALENDAR
