BEGIN:VCALENDAR
PRODID:-//MyTestProject//EN
VERSION:2.0
BEGIN:VEVENT
SUMMARY;LANGUAGE=en-us:Mindset Workout: Full Mind-Body Reset
CLASS:PUBLIC
CREATED:20260420T142810Z
DESCRIPTION:Regulate your nervous system and rewire your mind by leveraging the unique blend of Somatics, Hypnotherapy and Breathwork.
Experience true change from the inside out thanks to our unique blend of somatics, hypnotherapy and breathwork to reset your nervous system and (literally) rewire the mind.

As well as initiating the process of change, you will also make new friends with our group of everyday high-performers (from hobbyist athletes to founders and busy Mums).

We'll close the group with a moment to socialise with our like-minded guests and have your questions answered.

So far, we have achieved a 100% impact rate using this method, with 100+ people seeing the following results on average: -68% reduction to negativity, +83% increase in positivity.

If you're serious about putting a line in the sand to say "enough is enough", then join us and reset your mind AND body to begin your new chapter

URL:

Booking: <a href="https://go.evvnt.com/3505580-2?pid=1208" class="lnkOrange12px" target="_blank">https://go.evvnt.com/3505580-2?pid=1208</a>

Price: Entry: GBP 25.00

Time: 9:00 AM - 11:00 AM

Category: Community | Religion and Spirituality | Meditation and Yoga
DTSTART:20260425T090000Z
DTEND:20260425T110000Z
SEQUENCE:0
UID:583a9584-b696-4758-915f-928545e8116f
LOCATION:The Ministry, Borough | Workspace and Members' Club | South London, 79-81 Borough Road, London\, SE1 1DN\
END:VEVENT
END:VCALENDAR
