BEGIN:VCALENDAR
PRODID:-//MyTestProject//EN
VERSION:2.0
BEGIN:VEVENT
SUMMARY;LANGUAGE=en-us:Information Lecture:  Help and Healing on the Spiritual Path through the teaching of Bruno Groening - medically documented. EDINBURGH
CLASS:PUBLIC
CREATED:20260424T051822Z
DESCRIPTION:
A lecture about spiritual healing and help through the teaching of Bruno Groening.

Through the absorption of the divine power, many people are experiencing the healing of illnesses and pain, that have been declared as “incurable” by the medical profession. The words of Bruno Groening: “There is no incurable, God is the greatest physician,” has been proven and documented by independent physicians.

All interested people are welcome.
Admission is free, donations are accepted.

FOLLOW US!
youtube https://www.youtube.com/c/BrunoGroeningOrgEN
facebook https://www.facebook.com/BrunoGroeningCircleOfFriends
More information: https://www.bruno-groening.org/en/
DTSTART:20261101T153000Z
DTEND:20261101T163000Z
SEQUENCE:0
UID:9548c288-a76c-41c9-aeed-4ffcb38796a4
LOCATION:The Open Door Community Centre  , 420 Morningside Road, Edinburgh\, EH10 5HY \
END:VEVENT
END:VCALENDAR
